BEGIN:VCALENDAR
VERSION:2.0
PRODID:-//Årås Säteri &amp; Trädgårdar - ECPv6.15.17.1//NONSGML v1.0//EN
CALSCALE:GREGORIAN
METHOD:PUBLISH
X-WR-CALNAME:Årås Säteri &amp; Trädgårdar
X-ORIGINAL-URL:https://www.arassateri.se
X-WR-CALDESC:Händelser för Årås Säteri &amp; Trädgårdar
REFRESH-INTERVAL;VALUE=DURATION:PT1H
X-Robots-Tag:noindex
X-PUBLISHED-TTL:PT1H
BEGIN:VTIMEZONE
TZID:Europe/Paris
BEGIN:DAYLIGHT
TZOFFSETFROM:+0100
TZOFFSETTO:+0200
TZNAME:CEST
DTSTART:20250330T010000
END:DAYLIGHT
BEGIN:STANDARD
TZOFFSETFROM:+0200
TZOFFSETTO:+0100
TZNAME:CET
DTSTART:20251026T010000
END:STANDARD
BEGIN:DAYLIGHT
TZOFFSETFROM:+0100
TZOFFSETTO:+0200
TZNAME:CEST
DTSTART:20260329T010000
END:DAYLIGHT
BEGIN:STANDARD
TZOFFSETFROM:+0200
TZOFFSETTO:+0100
TZNAME:CET
DTSTART:20261025T010000
END:STANDARD
BEGIN:DAYLIGHT
TZOFFSETFROM:+0100
TZOFFSETTO:+0200
TZNAME:CEST
DTSTART:20270328T010000
END:DAYLIGHT
BEGIN:STANDARD
TZOFFSETFROM:+0200
TZOFFSETTO:+0100
TZNAME:CET
DTSTART:20271031T010000
END:STANDARD
END:VTIMEZONE
BEGIN:VEVENT
DTSTART;TZID=Europe/Paris:20260202T180000
DTEND;TZID=Europe/Paris:20260427T193000
DTSTAMP:20260419T150058
CREATED:20251229T180428Z
LAST-MODIFIED:20260119T072244Z
UID:5634-1770055200-1777318200@www.arassateri.se
SUMMARY:Linedance i Kvarnen
DESCRIPTION:Linedance är en social dansform där deltagarna dansar i rader (därav namnet) efter fastställda koreografier\, utan behov av partner. \nPå Årås dansar vi till all sorts musik – en roligt motion för både kropp och hjärna.\nÅrås har varit centrum för linedance sedan snart sex år tillbaka. Nu öppnar vi upp för en ny kull nyfikna nybörjare. \nNär: Måndagar 18.00-19.30 \nFöljande datum: (2/2\, 9/2\, 16/2\, 2/3\, 9/3\, 16/3\, 30/3\, 6/4\, 13/4\, 27/4) \nVar: Tredje våningen i Kvarnen på Årås Säteri \nInstruktör: Lill Kindgren \nPris: 500 kr för alla 10 tillfällen + medlemskap i BGF Årås Kvarn \n( 150:- för enskild medlem\, 250:- för familj) \nBetalning sker på plats – Följ länken i evenemanget för att anmäla dig.
URL:https://www.arassateri.se/evenemang/linedance-i-kvarnen/
ATTACH;FMTTYPE=image/jpeg:https://www.arassateri.se/wp-content/uploads/2025/12/20250107_202649-1-scaled.jpg
END:VEVENT
BEGIN:VEVENT
DTSTART;TZID=Europe/Paris:20260415T080000
DTEND;TZID=Europe/Paris:20260415T100000
DTSTAMP:20260419T150058
CREATED:20260202T120424Z
LAST-MODIFIED:20260202T120424Z
UID:5839-1776240000-1776247200@www.arassateri.se
SUMMARY:Föreläsning - Pitcha som ett proffs
DESCRIPTION:Pitcha som ett proffs med den stammande retorikern\nNär: 15 april 2026\, kl. 08:00 – 10:00\nVar: Årås Säteri & Trädgårdar\nAdress: Årås 112\, Kölingared\, 523 75 Dalum \nTräffen arrangeras av Creative Cluster i samarbete med Tillväxtenheten Ulricehamn. \nVill du bli tydligare\, mer övertygande och snabbare nå fram med ditt budskap? I denna inspirerande föreläsning får du konkreta verktyg för hur du bygger en stark pitch – oavsett om du möter kunder\, investerare eller presenterar på scen.\nTillsammans med Filip Reineby\, Den stammande retorikern\, får du ta del av beprövade strukturer\, retoriska verktyg och insikter från tusentals analyser av pitchar\, bland annat från Draknästet och podden Drakpodden. Du lär dig hur du skapar förtroende\, vågar ta plats och gör intryck – även när tiden är knapp. \nVi börjar med frukost klockan 08.00 i mysiga Årås kvarn. Missa inte denna utvecklande morgon! \nLäs mer och anmäl här!
URL:https://www.arassateri.se/evenemang/forelasning-pitcha-som-ett-proffs/
ATTACH;FMTTYPE=image/webp:https://www.arassateri.se/wp-content/uploads/2026/02/filip_.webp
END:VEVENT
END:VCALENDAR