BEGIN:VCALENDAR
VERSION:2.0
PRODID:-//Årås Säteri &amp; Trädgårdar - ECPv6.15.17.1//NONSGML v1.0//EN
CALSCALE:GREGORIAN
METHOD:PUBLISH
X-ORIGINAL-URL:https://www.arassateri.se
X-WR-CALDESC:Händelser för Årås Säteri &amp; Trädgårdar
REFRESH-INTERVAL;VALUE=DURATION:PT1H
X-Robots-Tag:noindex
X-PUBLISHED-TTL:PT1H
BEGIN:VTIMEZONE
TZID:Europe/Paris
BEGIN:DAYLIGHT
TZOFFSETFROM:+0100
TZOFFSETTO:+0200
TZNAME:CEST
DTSTART:20250330T010000
END:DAYLIGHT
BEGIN:STANDARD
TZOFFSETFROM:+0200
TZOFFSETTO:+0100
TZNAME:CET
DTSTART:20251026T010000
END:STANDARD
BEGIN:DAYLIGHT
TZOFFSETFROM:+0100
TZOFFSETTO:+0200
TZNAME:CEST
DTSTART:20260329T010000
END:DAYLIGHT
BEGIN:STANDARD
TZOFFSETFROM:+0200
TZOFFSETTO:+0100
TZNAME:CET
DTSTART:20261025T010000
END:STANDARD
BEGIN:DAYLIGHT
TZOFFSETFROM:+0100
TZOFFSETTO:+0200
TZNAME:CEST
DTSTART:20270328T010000
END:DAYLIGHT
BEGIN:STANDARD
TZOFFSETFROM:+0200
TZOFFSETTO:+0100
TZNAME:CET
DTSTART:20271031T010000
END:STANDARD
END:VTIMEZONE
BEGIN:VEVENT
DTSTART;TZID=Europe/Paris:20260429T180000
DTEND;TZID=Europe/Paris:20260429T210000
DTSTAMP:20260419T150124
CREATED:20260312T072923Z
LAST-MODIFIED:20260312T073537Z
UID:5871-1777485600-1777496400@www.arassateri.se
SUMMARY:Bredda tillsammans - utbildning i beredskap
DESCRIPTION:Beredda tillsammans – utbildning i hemberedskap och beredskap \nPå denna utbildning lär du dig att vara förberedd inför kris och höjd beredskap. Utbildningen inkluderar både hemberedskap – hur du som person förväntas vara förberedd – och samhällelig beredskap med fokus på lokalsamhället. Du får gedigen kunskap utifrån Myndigheten för civilt försvars kunskapsmål och förbereder dig för insiktsfullt agerande\, som individ och som del i ett lokalsamhälle. \n  \nFör vem: Intresserad allmänhet\, du behöver inte vara knuten till en bygdegårdsförening. \nNär: Onsdagen den 29 april – 18.00-21.00 \nVar: I Kvarnen på Årås Säteri & Trädgårdar\, Årås 112\, Kölingared\, 523 75 Dalum \nUtbildare: Ingela Pietiläinen \nKostnad: Gratis \nAnmälan: Länk till anmälan  Senast 19 april – Antalet deltagare är begränsat\, först till kvarn gäller. \nVid frågor kontakta oss via mail: info@arassateri.se \n  \nUtbildningen finansieras av Myndigheten för civilt försvar och genomförs av Bygdegårdarnas Riksförbund i samarbete med föreningar som är anslutna till riksförbundet\, bygdegårdsdistrikten och kunniga utbildningsledare. Du som deltar i utbildningen erhåller ett diplom. \n  \nMyndigheten för civilt försvars kunskapsmål  \nPå kursen kommer du få grundläggande kunskap om: \n\nhur olika kriser kan påverka samhället och individen\nhur människor kan agera vid klimatrelaterade händelser\, som ex. evakuering vid skogsbränder\nhemberedskap och egenberedskap och varför det är viktigt\nvad totalförsvaret är inklusive totalförsvarsplikten och att man är en del av Sveriges beredskap\nolika varningssystem och hur man bör agera om man hör dessa\nSveriges Radio P4 som beredskapskanal\nolika informationskällor före\, under och efter en allvarlig olycka eller kris.
URL:https://www.arassateri.se/evenemang/bredda-tillsammans-utbildning-i-beredskap/
LOCATION:Årås Säteri & Trädgård\, Kölingared 112\, Dalum\, 523 75\, Sverige
ATTACH;FMTTYPE=image/png:https://www.arassateri.se/wp-content/uploads/2026/03/Beredda-tillsammans-Insta-inlagg.png
END:VEVENT
END:VCALENDAR