BEGIN:VCALENDAR
VERSION:2.0
PRODID:-//Årås Säteri &amp; Trädgårdar - ECPv6.15.17.1//NONSGML v1.0//EN
CALSCALE:GREGORIAN
METHOD:PUBLISH
X-ORIGINAL-URL:https://www.arassateri.se
X-WR-CALDESC:Händelser för Årås Säteri &amp; Trädgårdar
REFRESH-INTERVAL;VALUE=DURATION:PT1H
X-Robots-Tag:noindex
X-PUBLISHED-TTL:PT1H
BEGIN:VTIMEZONE
TZID:Europe/Paris
BEGIN:DAYLIGHT
TZOFFSETFROM:+0100
TZOFFSETTO:+0200
TZNAME:CEST
DTSTART:20250330T010000
END:DAYLIGHT
BEGIN:STANDARD
TZOFFSETFROM:+0200
TZOFFSETTO:+0100
TZNAME:CET
DTSTART:20251026T010000
END:STANDARD
BEGIN:DAYLIGHT
TZOFFSETFROM:+0100
TZOFFSETTO:+0200
TZNAME:CEST
DTSTART:20260329T010000
END:DAYLIGHT
BEGIN:STANDARD
TZOFFSETFROM:+0200
TZOFFSETTO:+0100
TZNAME:CET
DTSTART:20261025T010000
END:STANDARD
BEGIN:DAYLIGHT
TZOFFSETFROM:+0100
TZOFFSETTO:+0200
TZNAME:CEST
DTSTART:20270328T010000
END:DAYLIGHT
BEGIN:STANDARD
TZOFFSETFROM:+0200
TZOFFSETTO:+0100
TZNAME:CET
DTSTART:20271031T010000
END:STANDARD
END:VTIMEZONE
BEGIN:VEVENT
DTSTART;TZID=Europe/Paris:20260530T110000
DTEND;TZID=Europe/Paris:20260531T160000
DTSTAMP:20260420T021502
CREATED:20250311T134230Z
LAST-MODIFIED:20260419T070405Z
UID:5412-1780138800-1780243200@www.arassateri.se
SUMMARY:Familjehelg på Årås
DESCRIPTION:Ta med familjen till Årås under vårens familjehelg! \nLördag- söndag 30-31 maj mellan 11-16 \nUnder helgens båda dagar kommer Mullsjö folkhögskola ha sin examensutställning i Säteriet och vi håller caféet och loppisen öppen. Du kommer att kunna köpa dahliaknölar som vi har vårat här på Årås samt andra plantor och fröer. \nLekparken står redo för alla som vill leka och på söndagen firar vi alla mammor tillsammans. \nVi  ser fram emot att välkomna er!
URL:https://www.arassateri.se/evenemang/mors-dag/
LOCATION:Årås Säteri & Trädgård\, Kölingared 112\, Dalum\, 523 75\, Sverige
ATTACH;FMTTYPE=image/jpeg:https://www.arassateri.se/wp-content/uploads/2025/03/Aras-inlagg-Familjehelg.jpg
END:VEVENT
BEGIN:VEVENT
DTSTART;TZID=Europe/Paris:20260619T150000
DTEND;TZID=Europe/Paris:20260619T170000
DTSTAMP:20260420T021502
CREATED:20250603T070557Z
LAST-MODIFIED:20251208T124020Z
UID:5515-1781881200-1781888400@www.arassateri.se
SUMMARY:Midsommar på Årås
DESCRIPTION:Traditionellt midsommarfirande i säteriparken på Årås Säteri & Trädgårdar fredagen den 19 juni mellan kl. 15.00-17.00 \nCaféet serverar midsommartårta och musikerna spelar upp till dans kring midsommarstången. \nVi klär stången från kl. 14. Ta gärna med egna blommor att sätta på stången.
URL:https://www.arassateri.se/evenemang/midsommar-pa-aras/
ATTACH;FMTTYPE=image/png:https://www.arassateri.se/wp-content/uploads/2025/06/Foto-2025-12-08-12-41-59.png
END:VEVENT
BEGIN:VEVENT
DTSTART;TZID=Europe/Paris:20260719T110000
DTEND;TZID=Europe/Paris:20260719T170000
DTSTAMP:20260420T021502
CREATED:20260318T145210Z
LAST-MODIFIED:20260322T115521Z
UID:5928-1784458800-1784480400@www.arassateri.se
SUMMARY:Öppen Trädgård - Invigning av Ekoboost!
DESCRIPTION:Söndagen den 19 juli bjuder vi in till en dag i parken i samband med att tidningen Land arrangerar Öppen trädgård. \nEtt återkommande och populärt evenemang hos oss där vi i år även kommer inviga vår park som en av 4 trädgårdar i Sjuhärad som är med i projektet Ekoboost! \nkom och träffa våra volontärer som berättar historian om hur trädgården skapades\, vart vi är idag och vad framtidsprojekten är. \nCaféet är öppet och mer info om tider dagen kommer…
URL:https://www.arassateri.se/evenemang/oppen-tradgard-invigning-av-ekoboost/
ATTACH;FMTTYPE=image/jpeg:https://www.arassateri.se/wp-content/uploads/2026/03/Aras-inlagg-oppen-tradgard.jpg
END:VEVENT
END:VCALENDAR