BEGIN:VCALENDAR
VERSION:2.0
PRODID:-//Årås Säteri &amp; Trädgårdar - ECPv6.15.17.1//NONSGML v1.0//EN
CALSCALE:GREGORIAN
METHOD:PUBLISH
X-WR-CALNAME:Årås Säteri &amp; Trädgårdar
X-ORIGINAL-URL:https://www.arassateri.se
X-WR-CALDESC:Händelser för Årås Säteri &amp; Trädgårdar
REFRESH-INTERVAL;VALUE=DURATION:PT1H
X-Robots-Tag:noindex
X-PUBLISHED-TTL:PT1H
BEGIN:VTIMEZONE
TZID:Europe/Paris
BEGIN:DAYLIGHT
TZOFFSETFROM:+0100
TZOFFSETTO:+0200
TZNAME:CEST
DTSTART:20250330T010000
END:DAYLIGHT
BEGIN:STANDARD
TZOFFSETFROM:+0200
TZOFFSETTO:+0100
TZNAME:CET
DTSTART:20251026T010000
END:STANDARD
BEGIN:DAYLIGHT
TZOFFSETFROM:+0100
TZOFFSETTO:+0200
TZNAME:CEST
DTSTART:20260329T010000
END:DAYLIGHT
BEGIN:STANDARD
TZOFFSETFROM:+0200
TZOFFSETTO:+0100
TZNAME:CET
DTSTART:20261025T010000
END:STANDARD
BEGIN:DAYLIGHT
TZOFFSETFROM:+0100
TZOFFSETTO:+0200
TZNAME:CEST
DTSTART:20270328T010000
END:DAYLIGHT
BEGIN:STANDARD
TZOFFSETFROM:+0200
TZOFFSETTO:+0100
TZNAME:CET
DTSTART:20271031T010000
END:STANDARD
END:VTIMEZONE
BEGIN:VEVENT
DTSTART;TZID=Europe/Paris:20260501T100000
DTEND;TZID=Europe/Paris:20260517T150000
DTSTAMP:20260419T150128
CREATED:20251208T112238Z
LAST-MODIFIED:20260202T135918Z
UID:5629-1777629600-1779030000@www.arassateri.se
SUMMARY:Kurs- Trädgårdsweekend
DESCRIPTION:Kom och vad med på vårens härliga Trädgårdsweekends! \nVi sätter igång årets fina odlingar av grönsaker\, örter\, bärbuskar och blommor. Under två helger kavlar vi upp ärmarna och gräver ner händerna i jorden. Samtidigt får vi med oss värdefull kunskap från våra olika handledare. Vi sätter dahliaknölar\, flyttar ut förkultiverade växter och frösår i trädgårdskvarteren. \nDel 1 – fredag 1- söndag 3 maj \nDel 2 – lördag 16 – söndag 17 maj \n  \nPris:  \nBåda helgerna: 500 kr \nEn av helgerna: 300 kr \nBetalning sker på plats vid ankomst. \nFika\, lunch ingår i kursavgiften. Ta på dig oömma kläder för arbete utomhus. Vi kommer jobba mycket praktiskt för att få med oss erfarenheten hem. Vi ser det även som ett sätt att utbyta erfarenheter\, bilda nya bekamskaper och ett sätt att umgås. \n  \nAnmälan: Följ länken i evenemanget \nFyll i frågeformuläret och ange vilka dagar/ vilken helg du kommer att delta. \nBoka boende under helgen via hemsidan eller genom mailkontakt. \nVarmt välkomna! \n  \nProgram – Trädgårdsweekend 1–3 maj 2026\nUnder den första kurshelgen kommer vi att fokusera på beredskapsodling och självhushållning. Vi kommer att komma nära jorden\, vårda den och ge våra odlingar de bästa förutsättningarna för att vara hållbara på lång sikt men också ge en bra avkastning utan risk för utarmning. Vi kommer att titta närmare på de grödor som lämpar sig bra för självhushållning men även de som är lätta att själva föröka. Vi gräver och vi sår. \nFredag 1 maj\n9.45                  Välkomstfika\n10.00               Föreläsning: ”1 kvm lin 2026” – Hemslöjdskonsulent Hillevi  Skoglund\, Borås museum\, om lin\, odling och beredning.\n11.00               Vi sår linrutan. Samtalar om\, och jobbar med\, jordbearbetning    och kompost\n12.30               Lunch\n13.30               Praktiskt arbete\n15.00               Fika\n15.30               Besök i dahliarummet: Dahliaknölar\, övervintring\, delning och väckning\n16.30               Slut för dagen \nLördag 2 maj\n9.00                  Föreläsning: Else-Marie Strese\, Julita gård\, berättar om Humle och andra kulturväxter.\n10\,00               Fika\n10.30               Praktiskt arbete i humle och köksväxtodlingen\n12.30               Lunch\n13.30               Trädplantering: Teori och praktik\n15.00               Fika\n15.30               Praktiskt arbete\n16.30               Slut för dagen \nSöndag 3 maj\n9.00                  Frö och sådd: teori och praktik\n10.00               Fika\n10.30               Hasselflätning: Tillverkning av odlingskorgar och växtstöd\n12.30               Lunch\n13.30               Praktiskt arbete\n15.00               Avslutning: Samtal och utvärdering \nProgram – Trädgårdsweekend 16–17 maj 2026\nUnder den andra kurshelgen kommer vi att fokusera på det blomstrande och ursprunget till allt; fröerna. Vi kommer att titta närmare på blommor som lämpar sig bra till snitt men även till torkning. Vi kommer att prata kompositioner och utformning av sommarblomsplanteringar\, uppdragning av plantor och planthantering samt djupdyka i fröernas värld. \nLördag 16 maj \n9.45                  Välkomstfika\n10.00               Föreläsning: Sommarblommor\, snittblommor och torkning\n11.00               Praktiskt arbete och samtal: Säteriparken\, potager.\n12.30               Lunch\n13.30               Sommarblomsplantering: komposition\, färg och sort\n15.00               Fika\n15.30               Praktiskt arbete\n16.30               Slut för dagen \nSöndag 17 maj  \n9.00                  Föreläsning: Frön i beredskapstider. Köpa – eller skörda och samla själv? fördelar och fallgropar.\n10\,00               Fika\n10.30               Frostkänsliga växter\, planteringstid\, frostskydd mm\, – Praktiskt arbete\n12.30               Lunch\n13.30               Praktiskt arbete\n15.00               Avslutning: Samtal och utvärdering.
URL:https://www.arassateri.se/evenemang/kurs-tradgardsweekend/
ATTACH;FMTTYPE=image/jpeg:https://www.arassateri.se/wp-content/uploads/2025/12/Foto-2025-05-10-10-01-33-scaled.jpg
END:VEVENT
BEGIN:VEVENT
DTSTART;TZID=Europe/Paris:20260507T190000
DTEND;TZID=Europe/Paris:20260507T200000
DTSTAMP:20260419T150128
CREATED:20260318T071415Z
LAST-MODIFIED:20260318T071415Z
UID:5893-1778180400-1778184000@www.arassateri.se
SUMMARY:Föreläsning - Dejting\, ensamhet och normer
DESCRIPTION:Dejting\, ensamhet och normer – en kväll med Suzann Larsdotter\nHur påverkar normer vår syn på dejting och ensamhet? Varför känns det ibland som att alla andra hittar någon? I denna föreläsning reflekterar sexologen Suzann Larsdotter över hur kön\, ålder\, sexualitet och sociala förväntningar formar våra relationer. Vi pratar om digital dejting\, prestationspress och hur vi kan hitta mening och närhet på våra egna villkor – en lättsam men viktig stund om relationer\, ensamhet och igenkänning. \nI samverkan med Ulricehamns kommun \nDatum: 7 maj 2026\nPlats: Kvarnen\, Årås Säteri\nTid: 19.00
URL:https://www.arassateri.se/evenemang/forelasning-dejting-ensamhet-och-normer/
ATTACH;FMTTYPE=image/jpeg:https://www.arassateri.se/wp-content/uploads/2026/03/Larsdotter.jpg
END:VEVENT
BEGIN:VEVENT
DTSTART;TZID=Europe/Paris:20260514T060000
DTEND;TZID=Europe/Paris:20260514T090000
DTSTAMP:20260419T150128
CREATED:20250328T100223Z
LAST-MODIFIED:20260107T125754Z
UID:5448-1778738400-1778749200@www.arassateri.se
SUMMARY:Fågelvandring med guide
DESCRIPTION:Packa frukostkorgen och kom! \nVi lyssnar och lär under en ca. 4 km lång promenad utmed fina stigar och landvägar. Vår guide heter Göran Karlsson. \nSamling på parkeringen kl. 06.00. Medtag egen frukostkorg – ingen anmälan krävs. \n  \nFågelvandringen är gratis \nBli gärna medlem i vår ideella förening – Klicka här!
URL:https://www.arassateri.se/evenemang/fagelvandring-med-guide-2/
ATTACH;FMTTYPE=image/jpeg:https://www.arassateri.se/wp-content/uploads/2025/03/Foto-2025-04-15-15-18-23-1-scaled.jpg
END:VEVENT
BEGIN:VEVENT
DTSTART;TZID=Europe/Paris:20260530T110000
DTEND;TZID=Europe/Paris:20260531T160000
DTSTAMP:20260419T150128
CREATED:20250311T134230Z
LAST-MODIFIED:20260419T070405Z
UID:5412-1780138800-1780243200@www.arassateri.se
SUMMARY:Familjehelg på Årås
DESCRIPTION:Ta med familjen till Årås under vårens familjehelg! \nLördag- söndag 30-31 maj mellan 11-16 \nUnder helgens båda dagar kommer Mullsjö folkhögskola ha sin examensutställning i Säteriet och vi håller caféet och loppisen öppen. Du kommer att kunna köpa dahliaknölar som vi har vårat här på Årås samt andra plantor och fröer. \nLekparken står redo för alla som vill leka och på söndagen firar vi alla mammor tillsammans. \nVi  ser fram emot att välkomna er!
URL:https://www.arassateri.se/evenemang/mors-dag/
LOCATION:Årås Säteri & Trädgård\, Kölingared 112\, Dalum\, 523 75\, Sverige
ATTACH;FMTTYPE=image/jpeg:https://www.arassateri.se/wp-content/uploads/2025/03/Aras-inlagg-Familjehelg.jpg
END:VEVENT
END:VCALENDAR